BEGIN:VCALENDAR
VERSION:2.0
PRODID:-//Stronger Tandems  - ECPv6.15.20//NONSGML v1.0//EN
CALSCALE:GREGORIAN
METHOD:PUBLISH
X-WR-CALNAME:Stronger Tandems 
X-ORIGINAL-URL:https://app.strongerperipheries.eu
X-WR-CALDESC:Events for Stronger Tandems 
REFRESH-INTERVAL;VALUE=DURATION:PT1H
X-Robots-Tag:noindex
X-PUBLISHED-TTL:PT1H
BEGIN:VTIMEZONE
TZID:UTC
BEGIN:STANDARD
TZOFFSETFROM:+0000
TZOFFSETTO:+0000
TZNAME:UTC
DTSTART:20210101T000000
END:STANDARD
END:VTIMEZONE
BEGIN:VEVENT
DTSTART;TZID=UTC:20221116T093000
DTEND;TZID=UTC:20221119T140000
DTSTAMP:20260421T094933
CREATED:20220112T183728Z
LAST-MODIFIED:20220902T122842Z
UID:796-1668591000-1668866400@app.strongerperipheries.eu
SUMMARY:Conference Having a Voice @ Lisbon&Moita
DESCRIPTION:General timeline\nSee preliminary programme here. \nPre-Welcome Kit here. \nFly in: 15/11 // Fly out (to Barcelona): 20/11. Reference airport: Lisbon. \nCo-organizers: Artemrede\, ISCTE\nWP Manager: Artemrede \n#Artemrede #ISCTE
URL:https://app.strongerperipheries.eu/event/conference-preparing-the-agenda-tandem-2-premiere-lisbon-moita/
CATEGORIES:Conference
END:VEVENT
END:VCALENDAR