BEGIN:VCALENDAR
VERSION:2.0
PRODID:-//Stronger Tandems  - ECPv6.15.20//NONSGML v1.0//EN
CALSCALE:GREGORIAN
METHOD:PUBLISH
X-ORIGINAL-URL:https://app.strongerperipheries.eu
X-WR-CALDESC:Events for Stronger Tandems 
REFRESH-INTERVAL;VALUE=DURATION:PT1H
X-Robots-Tag:noindex
X-PUBLISHED-TTL:PT1H
BEGIN:VTIMEZONE
TZID:UTC
BEGIN:STANDARD
TZOFFSETFROM:+0000
TZOFFSETTO:+0000
TZNAME:UTC
DTSTART:20200101T000000
END:STANDARD
END:VTIMEZONE
BEGIN:VTIMEZONE
TZID:Africa/Abidjan
BEGIN:STANDARD
TZOFFSETFROM:+0000
TZOFFSETTO:+0000
TZNAME:GMT
DTSTART:20210101T000000
END:STANDARD
END:VTIMEZONE
BEGIN:VEVENT
DTSTART;VALUE=DATE:20220702
DTEND;VALUE=DATE:20220706
DTSTAMP:20260421T130637
CREATED:20220114T181821Z
LAST-MODIFIED:20220128T192138Z
UID:790-1656720000-1657065599@app.strongerperipheries.eu
SUMMARY:Tandem 3 Workshop @ Pergine
DESCRIPTION:General timeline\n\nSaturday 02/07 > Tuesday 05/07 > Tandem 3 Workshop\n\nArrival from Mondaino 30/06. \nFly out: 06/07. Reference airport: Verona\, Bergamo\, Bologna\, Venice. \nCoproducers: Pergine Spettacolo Aperto; Pro Progressione; L’arboreto Teatro Dimora. \nWP Manager: L’arboreto.
URL:https://app.strongerperipheries.eu/event/tandem-3-workshop-pergine/
CATEGORIES:Workshop
END:VEVENT
BEGIN:VEVENT
DTSTART;VALUE=DATE:20220628
DTEND;VALUE=DATE:20220701
DTSTAMP:20260421T130637
CREATED:20220128T180405Z
LAST-MODIFIED:20220128T181950Z
UID:783-1656374400-1656633599@app.strongerperipheries.eu
SUMMARY:Seminar Quality in Artistic Residencies & Project Meeting #7 (part 2) & Tandem 6 selection @ Mondaino
DESCRIPTION:General timeline\n\nTuesday 28/06 to Wednesday 29/06 > Seminar @ Mondaino\nThursday 30/06\n\nMorning: Project Meeting\nEarly afternoon: Tandem 6 selection (coproducers: Cluj Cultural Center\, Pogon\, L’arboreto)\nAfternoon/evening: Transfer to Pergine by bus\n\n\n\nFly in: 27/06. Reference airports: Bologna\, Rimini\, Ancona. Departure to Pergine. \nOrganizer: L’arboreto Teatro Dimora. \nWP Manager: L’arboreto.
URL:https://app.strongerperipheries.eu/event/seminar-quality-in-artistic-residencies-project-meeting-7-part-2-tandem-6-selection-mondaino/
LOCATION:L’arboreto Teatro Dimora\, via Arboreto 6\, Mondaino\, 47836\, Italy
CATEGORIES:Management,Seminar
END:VEVENT
BEGIN:VEVENT
DTSTART;VALUE=DATE:20220614
DTEND;VALUE=DATE:20220617
DTSTAMP:20260421T130637
CREATED:20211216T174023Z
LAST-MODIFIED:20220128T180636Z
UID:725-1655164800-1655423999@app.strongerperipheries.eu
SUMMARY:Project Meeting #7 (part 1) @ Online
DESCRIPTION:First part of PM#7 (online). Exact date and schedule to be determined via Doodle – 1 morning/afternoon. \nCo-organizers: Artemrede; L’arboreto.\nWP manager: Artemrede.
URL:https://app.strongerperipheries.eu/event/project-meeting-7-part-1-online/
LOCATION:Zoom
CATEGORIES:Management
END:VEVENT
BEGIN:VEVENT
DTSTART;VALUE=DATE:20220531
DTEND;VALUE=DATE:20220604
DTSTAMP:20260421T130637
CREATED:20210111T173902Z
LAST-MODIFIED:20220202T165805Z
UID:721-1653955200-1654300799@app.strongerperipheries.eu
SUMMARY:Tandem 5 Workshop @ Piraeus
DESCRIPTION:General timeline\n\nTuesday 31/05 to Friday 03/06 > Tandem Workshop\n\nReference airport: Athens. \nCoproducers: PCAI; Artemrede / Municipality of Torres Vedras; L’arboreto \nWP Manager: Transversal.
URL:https://app.strongerperipheries.eu/event/tandem-5-workshop-piraeus/
LOCATION:Piraeus Municipal Theatre\, Leof. Ir. Politechniou 32\, Pireas\, 185 35\, Greece
CATEGORIES:Workshop
END:VEVENT
BEGIN:VEVENT
DTSTART;VALUE=DATE:20220510
DTEND;VALUE=DATE:20220513
DTSTAMP:20260421T130637
CREATED:20210116T170453Z
LAST-MODIFIED:20220404T204301Z
UID:716-1652140800-1652399999@app.strongerperipheries.eu
SUMMARY:Tandem 10 Workshop @ Alcobaça & Pombal
DESCRIPTION:General timeline\n\nTuesday 10/05 > Thursday 12/05 > Tandem 10 Workshop – “Having a Voice” @ Alcobaça & Pombal\nPreliminary programme & first draft of the Welcome Kit here.\n\nArrival: 09/05 [x1 bus transfer supplied in the evening]\nDeparture: 13/05 [x1 bus transfer supplied in the morning]\nReference airport: Lisbon. \nCoproducers: Artemrede / Municipalities of Alcobaça and Pombal; Transversal / Granollers (CAM – Centre Arts en Moviment + TAG theatre) \nWP Manager: Artemrede.
URL:https://app.strongerperipheries.eu/event/tandem-10-workshop-tandem-6-selection-alcobaca/
LOCATION:Cine-Teatro João D’Oliva Monteiro\, R. João de Oliva Monteiro 4\, Alcobaça\, Portugal
CATEGORIES:Workshop
END:VEVENT
BEGIN:VEVENT
DTSTART;TZID=Africa/Abidjan:20220410T160000
DTEND;TZID=Africa/Abidjan:20220414T130000
DTSTAMP:20260421T130637
CREATED:20210128T191039Z
LAST-MODIFIED:20220404T204017Z
UID:711-1649606400-1649941200@app.strongerperipheries.eu
SUMMARY:Tandem 4 Workshop & Project Meeting #6 (part 2) @ Tarbes
DESCRIPTION:General timeline\n\nSunday\, 10/04 > 4pm to 8.15pm: Project Meeting #6 (part 2 – in person). Meeting Agenda here.\nMonday 11/04 > Thursday 14/04 > Tandem Workshop. Welcome Kit here.\n\nReference airport: Toulouse. \nReview the 5 shortlisted artists’ applications and portfolios here. \nCoproducers: Occitanie en Scène/Le Parvis Scène Nationale Tarbes Pyrénées; Teatro di Sardegna\, L’arboreto Teatro Dimora.\nWP Manager: Artemrede.
URL:https://app.strongerperipheries.eu/event/tandem-4-workshop-project-meeting-6-part-2-tarbes/
LOCATION:Le Parvis\, Route de Pau Centre Commercial Le Méridien\, 65420\, France
CATEGORIES:Management,Workshop
END:VEVENT
BEGIN:VEVENT
DTSTART;TZID=UTC:20220310T103000
DTEND;TZID=UTC:20220310T135000
DTSTAMP:20260421T130637
CREATED:20210128T191238Z
LAST-MODIFIED:20220308T150637Z
UID:707-1646908200-1646920200@app.strongerperipheries.eu
SUMMARY:Project Meeting #6 (part 1) @ Online
DESCRIPTION:First part of PM#6 (online). Meeting Agenda here. \nZoom Link: https://bit.ly/34cvmyy\nMeeting ID: 844 3828 1868\nPassword: 308634 \nCo-organizers: Artemrede; Bunker.\nWP manager: Artemrede.
URL:https://app.strongerperipheries.eu/event/project-meeting-6-online/
LOCATION:Zoom
CATEGORIES:Management
END:VEVENT
BEGIN:VEVENT
DTSTART;TZID=UTC:20220207T080000
DTEND;TZID=UTC:20220211T170000
DTSTAMP:20260421T130637
CREATED:20210128T191921Z
LAST-MODIFIED:20220208T004840Z
UID:692-1644220800-1644598800@app.strongerperipheries.eu
SUMMARY:Tandem 1 Workshop & Communication meeting @ Ljubljana
DESCRIPTION:General timeline\n\nMonday\, 07/02\n\n3pm to 7.30pm: Communication Meeting\n20.30pm to 9.30pm: Performance\n\n\nTuesday 08/02\n\n10am to 7.30pm: Tandem Workshop\n\n\nWednesday 09/02\n\n10am to 6.30pm: Tandem Workshop\n\n\nThursday 10/02\n\n11am to 4.30pm: Tandem Workshop\n5pm to 7.30pm: Quality of Participation Toolkit session\n\n\nFriday 11/02\n\n10am to 5.30pm: Tandem 1 Workshop\n\n\n\nReference airport: Ljubljana. Note: it may be useful to travel to Zagreb\, Venice\, Trieste or Graz\, and take a transfer from there (in case there are direct flights from your home city). \nWelcome Kit here. \nCheck shortlisted artists’ applications and portfolios here.\nCoproducers: Bunker; Cluj Cultural Center; L’arboreto Teatro Dimora.\nWP Manager: Bunker. \n#Bunker #ClujCulturalCenter #Larboreto #UniversitédeMontpellier
URL:https://app.strongerperipheries.eu/event/tandem-1-workshop-communication-meeting/
LOCATION:Bunker\, Slomškova 7\, 1000\, Ljubljana\, Slovenia
CATEGORIES:Management,Workshop
END:VEVENT
BEGIN:VEVENT
DTSTART;VALUE=DATE:20220112
DTEND;VALUE=DATE:20220115
DTSTAMP:20260421T130637
CREATED:20211213T195334Z
LAST-MODIFIED:20211216T165757Z
UID:601-1641945600-1642204799@app.strongerperipheries.eu
SUMMARY:Seminar "Towards fairer international cooperation: visions from the peripheries" @ Barcelona
DESCRIPTION:#University of Barcelona \nFinal Agenda here. \nRegistration form for partners (until 16/12): https://forms.gle/PBfHnqpj8qSkxeY88 \nRegistration form for general public (in person attendance): https://forms.gle/aC71kkAWHst8rvg89 \nRegistration form for general public (remote attendance): https://forms.gle/jujfHgfhAdQojdAT6
URL:https://app.strongerperipheries.eu/event/seminar-towards-fairer-international-cooperation-visions-from-the-peripheries-barcelona/
LOCATION:University of Barcelona\, Gran Via de les Corts Catalanes\, 585\, Barcelona\, 08007\, Spain
CATEGORIES:Seminar
END:VEVENT
BEGIN:VEVENT
DTSTART;VALUE=DATE:20211206
DTEND;VALUE=DATE:20211211
DTSTAMP:20260421T130637
CREATED:20210826T144755Z
LAST-MODIFIED:20211216T164303Z
UID:251-1638748800-1639180799@app.strongerperipheries.eu
SUMMARY:5th Project Meeting & Tandem 2 Workshop @ Portugal
DESCRIPTION:General timeline\n6th December\, Monday| 9h30 – 13h > 5th Project Meeting +  14h30 – 18h > Tandem 1 artist selection @ Lugar de Cultura | Quinta Alegre\, Lisbon\n7th December\, Tuesday | 10h – 17h30 > Tandem 2 Workshop @ CEA\, Moita\n8th December\, Wednesday | 10h – 17h30 > Tandem 2 Workshop @ CEA\, Moita\n9th December\, Thursday | 10h – 17h30 > Tandem 2 Workshop @ CEA\, Moita\n10th December\, Friday | 10h30 – 12h30 > Tandem 2 Workshop “Walking & Sharing” + 14h30 – 18h30 > Roundtable + Tandem 2 artist selection @ CEA\, Moita \nCheck shortlisted artists’ applications and portfolios here.\nAccess the 5th Project Meeting Agenda here. Find the week’s programme here. Welcome Kit available for download here. Googlemymaps here.\nCoproducers: Artemrede / Moita Municipality; Occitanie en Scène / Théâtre + Cinéma.\nWP Manager: FDA \n#Artemrede #Moita Municipality #Occitanie en Scène #Théâtre+Cinéma #FDA
URL:https://app.strongerperipheries.eu/event/tandem-2-workshop/
LOCATION:CEA – Centro de Experimentação Artística do Vale da Amoreira\, Avenida Vasco da Gama\, Vale da Amoreira\, Moita\, 2835 -205\, Portugal
CATEGORIES:Management,Workshop
END:VEVENT
BEGIN:VEVENT
DTSTART;TZID=UTC:20210927T140000
DTEND;TZID=UTC:20211001T170000
DTSTAMP:20260421T130637
CREATED:20210817T102036Z
LAST-MODIFIED:20211028T195426Z
UID:84-1632751200-1633107600@app.strongerperipheries.eu
SUMMARY:Project Meeting #4 & Workshop Connecting Dots @ Belgrade
DESCRIPTION:Useful links\n4th Project Meeting Agenda here. Workshop Connecting Dots Welcome Kit here. \nWorkshop’s theme: Mapping\, among peers\, common interests and challenges\, expanding the Southern Coalition’s international network\, and seeking for funding opportunities to strengthen the Coalition. \nRemote participation\n28th of September\, Monday | 2pm to 5pm (CET) \n4th Project meeting \n29th of September\, Tuesday | 10am to 1pm (CET) \n4th Project meeting (cont.) \n29th of September\, Wednesday | 10am to 11:30am (CET) \nDr. Mike Van Graan > Centering the Periphery: Towards Changing the Dynamics of Power in Cultural Discourse and Practice \n30th of September\, Thursday | 10am to 11:30am (CET) \nDr. Christos Carras > European collaborative cultural projects as a networking flywheel \n1st of Octover\, Friday | 11:30am to 1pm (CET) \nMarijana Cvetković  > Togetherness vs. cooperation: building alliances in arts and society \nAccess\nZoom link: bit.ly/3krM2Yb \nMeeting ID: 878 3644 7109 | Password: fdu
URL:https://app.strongerperipheries.eu/event/workshop-connecting-dots-project-meeting-4/
LOCATION:Fakultet dramskih umetnosti\, Bulevar umetnosti 20\, New Belgrade\, Belgrade\, Serbia
CATEGORIES:Workshop
END:VEVENT
END:VCALENDAR